BEGIN:VCALENDAR
VERSION:2.0
PRODID:-//Astroingeo - ECPv5.9.0//NONSGML v1.0//EN
CALSCALE:GREGORIAN
METHOD:PUBLISH
X-WR-CALNAME:Astroingeo
X-ORIGINAL-URL:https://www.astroingeo.org
X-WR-CALDESC:Eventos para Astroingeo
BEGIN:VTIMEZONE
TZID:Europe/Madrid
BEGIN:DAYLIGHT
TZOFFSETFROM:+0100
TZOFFSETTO:+0200
TZNAME:CEST
DTSTART:20220327T010000
END:DAYLIGHT
BEGIN:STANDARD
TZOFFSETFROM:+0200
TZOFFSETTO:+0100
TZNAME:CET
DTSTART:20221030T010000
END:STANDARD
END:VTIMEZONE
BEGIN:VEVENT
DTSTART;TZID=Europe/Madrid:20220305T180000
DTEND;TZID=Europe/Madrid:20220306T010000
DTSTAMP:20260422T145648
CREATED:20220303T184341Z
LAST-MODIFIED:20220303T184341Z
UID:3259-1646503200-1646528400@www.astroingeo.org
SUMMARY:Observación astronómica en Ibi
DESCRIPTION:Día 5: Observación astronómica en Ibi. Salida desde el parking 3 de la UA a las 18:00.
URL:https://www.astroingeo.org/evento/observacion-astronomica-en-ibi-6/
LOCATION:Parking 3\, Universidad de Alicante\, Parking 3\, San Vicente del Raspeig\, España
CATEGORIES:Observación
ATTACH;FMTTYPE=image/jpeg:https://www.astroingeo.org/wp-content/uploads/2020/01/2016062616381150252.jpg
ORGANIZER;CN="Astroingeo":MAILTO:infoastroingeo@gmail.com
END:VEVENT
BEGIN:VEVENT
DTSTART;TZID=Europe/Madrid:20220310T200000
DTEND;TZID=Europe/Madrid:20220310T213000
DTSTAMP:20260422T145648
CREATED:20220303T184518Z
LAST-MODIFIED:20220307T103756Z
UID:3261-1646942400-1646947800@www.astroingeo.org
SUMMARY:Conferencia: «Geógrafas y Ciencia»
DESCRIPTION:Día 10: Conferencia: «Geógrafas y Ciencia»\, a cargo de las profesoras doctoras de la Universidad de Alicante Ascensión Padilla Blanco y Ana Espinosa Seguí. Politécnica IV aula 23 G planta cero\, a las 20:00h.
URL:https://www.astroingeo.org/evento/conferencia-geofrafas-y-ciencia/
LOCATION:Aula Astroingeo\, Aula 17D Politécnica IV de la Universidad de Alicante\, San Vicente del Raspeig\, España
CATEGORIES:Conferencia
ATTACH;FMTTYPE=image/jpeg:https://www.astroingeo.org/wp-content/uploads/2020/01/conferencia-astroingeo.jpg
ORGANIZER;CN="Astroingeo":MAILTO:infoastroingeo@gmail.com
END:VEVENT
BEGIN:VEVENT
DTSTART;TZID=Europe/Madrid:20220321T124500
DTEND;TZID=Europe/Madrid:20220321T134500
DTSTAMP:20260422T145648
CREATED:20220303T184739Z
LAST-MODIFIED:20220304T095318Z
UID:3263-1647866700-1647870300@www.astroingeo.org
SUMMARY:Explicación del funcionamiento del Reloj Solsticial (equinocio de primavera)
DESCRIPTION:Explicación del funcionamiento del Reloj Solsticial (equinocio de primavera) por el Dr. Enrique Aparicio (miembro de Astroingeo). \nUbicación: Entre Bibloteca General y Rectorado de la Universidad de Alicante \nHorario: 12:45 a 13:45
URL:https://www.astroingeo.org/evento/explicacion-del-funcionamiento-del-reloj-solsticial-equinocio-de-primavera/
LOCATION:Reloj soslticial\, Universidad de Alicante\, Rectorado\, San Vicente del Raspeig\, Alicante\, España
CATEGORIES:Evento
ATTACH;FMTTYPE=image/jpeg:https://www.astroingeo.org/wp-content/uploads/2021/09/reloj-solsticio-ubicacion.jpg
ORGANIZER;CN="Astroingeo":MAILTO:infoastroingeo@gmail.com
END:VEVENT
BEGIN:VEVENT
DTSTART;TZID=Europe/Madrid:20220325T203000
DTEND;TZID=Europe/Madrid:20220325T223000
DTSTAMP:20260422T145648
CREATED:20220303T184942Z
LAST-MODIFIED:20220303T184942Z
UID:3265-1648240200-1648247400@www.astroingeo.org
SUMMARY:Actividad astronómica en IES Luis García Berlanga de San Juan de Alicante
DESCRIPTION:Día 25: Actividad astronómica en IES Luis García Berlanga de San Juan de Alicante. Organizado por el AMPA. A partir de las 20:30h.
URL:https://www.astroingeo.org/evento/actividad-astronomica-en-ies-luis-garcia-berlanga-de-san-juan-de-alicante/
CATEGORIES:Otros
ATTACH;FMTTYPE=image/jpeg:https://www.astroingeo.org/wp-content/uploads/2020/01/62179360_3128787693803444_846495452260990976_o.jpg
ORGANIZER;CN="Astroingeo":MAILTO:infoastroingeo@gmail.com
END:VEVENT
END:VCALENDAR