BEGIN:VCALENDAR
VERSION:2.0
PRODID:-//Astroingeo - ECPv5.9.0//NONSGML v1.0//EN
CALSCALE:GREGORIAN
METHOD:PUBLISH
X-WR-CALNAME:Astroingeo
X-ORIGINAL-URL:https://www.astroingeo.org
X-WR-CALDESC:Eventos para Astroingeo
BEGIN:VTIMEZONE
TZID:Europe/Madrid
BEGIN:DAYLIGHT
TZOFFSETFROM:+0100
TZOFFSETTO:+0200
TZNAME:CEST
DTSTART:20220327T010000
END:DAYLIGHT
BEGIN:STANDARD
TZOFFSETFROM:+0200
TZOFFSETTO:+0100
TZNAME:CET
DTSTART:20221030T010000
END:STANDARD
END:VTIMEZONE
BEGIN:VEVENT
DTSTART;TZID=Europe/Madrid:20220203T080000
DTEND;TZID=Europe/Madrid:20220203T170000
DTSTAMP:20260422T162902
CREATED:20220131T102224Z
LAST-MODIFIED:20220131T102224Z
UID:3240-1643875200-1643907600@www.astroingeo.org
SUMMARY:Inauguración de la Exposición Astrofotográfica
DESCRIPTION:Día 3: Inauguración de la Exposición Astrofotográfica\, realizada por miembros de Astroingeo. Explicación de las imágenes astronómicas por sus autores.
URL:https://www.astroingeo.org/evento/inauguracion-de-la-exposicion-astrofotografica/
LOCATION:Salón de Actos Politécnica\, Escola Politècnica Superior de la Universitat d'Alacant\, San Vicente del Raspeig\, España
CATEGORIES:Exposición
ATTACH;FMTTYPE=image/jpeg:https://www.astroingeo.org/wp-content/uploads/2020/01/exposicion-fotografias.jpg
ORGANIZER;CN="Astroingeo":MAILTO:infoastroingeo@gmail.com
END:VEVENT
BEGIN:VEVENT
DTSTART;TZID=Europe/Madrid:20220210T193000
DTEND;TZID=Europe/Madrid:20220210T210000
DTSTAMP:20260422T162902
CREATED:20220131T102440Z
LAST-MODIFIED:20220131T102440Z
UID:3242-1644521400-1644526800@www.astroingeo.org
SUMMARY:¿Cómo fotografiar la Luna? 
DESCRIPTION:Día 10: ¿Cómo fotografiar la Luna?  A cargo de José Franco (miembro de Astroingeo) \nLas conferencias serán todos los jueves de 19:30 a 21 horas en salón de actos de la politécnica IV y el enlace meet: meet.google.com/ttp-xqrh-rrm
URL:https://www.astroingeo.org/evento/como-fotografiar-la-luna/
LOCATION:Salón de Actos Politécnica\, Escola Politècnica Superior de la Universitat d'Alacant\, San Vicente del Raspeig\, España
CATEGORIES:Conferencia
ATTACH;FMTTYPE=image/jpeg:https://www.astroingeo.org/wp-content/uploads/2021/09/luna.jpg
ORGANIZER;CN="Astroingeo":MAILTO:infoastroingeo@gmail.com
END:VEVENT
BEGIN:VEVENT
DTSTART;TZID=Europe/Madrid:20220217T193000
DTEND;TZID=Europe/Madrid:20220217T210000
DTSTAMP:20260422T162902
CREATED:20220131T102837Z
LAST-MODIFIED:20220131T102837Z
UID:3244-1645126200-1645131600@www.astroingeo.org
SUMMARY:Maqueta artesanal Tierra – Luna
DESCRIPTION:Día 17: Maqueta artesanal Tierra – Luna.  A cargo de Jonathan Martínez (miembro de Astroingeo) \nLas conferencias serán todos los jueves de 19:30 a 21 horas en salón de actos de la politécnica IV y el enlace meet: meet.google.com/ttp-xqrh-rrm
URL:https://www.astroingeo.org/evento/maqueta-artesanal-tierra-luna/
LOCATION:Salón de Actos Politécnica\, Escola Politècnica Superior de la Universitat d'Alacant\, San Vicente del Raspeig\, España
CATEGORIES:Conferencia
ATTACH;FMTTYPE=image/jpeg:https://www.astroingeo.org/wp-content/uploads/2021/08/image11.jpg
ORGANIZER;CN="Astroingeo":MAILTO:infoastroingeo@gmail.com
END:VEVENT
BEGIN:VEVENT
DTSTART;TZID=Europe/Madrid:20220224T193000
DTEND;TZID=Europe/Madrid:20220224T210000
DTSTAMP:20260422T162902
CREATED:20220131T102942Z
LAST-MODIFIED:20220131T103235Z
UID:3246-1645731000-1645736400@www.astroingeo.org
SUMMARY:Curiosidades sobre la Luna
DESCRIPTION:Día 24: Curiosidades sobre la Luna. A cargo de Nair Trógolo (miembro de Astroingeo) \nLas conferencias serán todos los jueves de 19:30 a 21 horas en salón de actos de la politécnica IV y el enlace meet: meet.google.com/ttp-xqrh-rrm
URL:https://www.astroingeo.org/evento/curiosidades-sobre-la-luna/
LOCATION:Salón de Actos Politécnica\, Escola Politècnica Superior de la Universitat d'Alacant\, San Vicente del Raspeig\, España
CATEGORIES:Conferencia
ATTACH;FMTTYPE=image/jpeg:https://www.astroingeo.org/wp-content/uploads/2020/12/29_lunahalo_01-scaled.jpg
ORGANIZER;CN="Astroingeo":MAILTO:infoastroingeo@gmail.com
END:VEVENT
BEGIN:VEVENT
DTSTART;TZID=Europe/Madrid:20220226T180000
DTEND;TZID=Europe/Madrid:20220227T013000
DTSTAMP:20260422T162902
CREATED:20220131T103145Z
LAST-MODIFIED:20220303T185030Z
UID:3248-1645898400-1645925400@www.astroingeo.org
SUMMARY:Observación astronómica en Ibi
DESCRIPTION:Día 26: Observación astronómica en Ibi. Salida desde el parking 3 de la UA a las 18:00 \n 
URL:https://www.astroingeo.org/evento/observacion-astronomica-en-ibi-5/
LOCATION:Parking 3\, Universidad de Alicante\, Parking 3\, San Vicente del Raspeig\, España
CATEGORIES:Observación
ATTACH;FMTTYPE=image/jpeg:https://www.astroingeo.org/wp-content/uploads/2020/01/2016062616381150252.jpg
ORGANIZER;CN="Astroingeo":MAILTO:infoastroingeo@gmail.com
END:VEVENT
END:VCALENDAR