BEGIN:VCALENDAR
VERSION:2.0
PRODID:-//Astroingeo - ECPv5.9.0//NONSGML v1.0//EN
CALSCALE:GREGORIAN
METHOD:PUBLISH
X-WR-CALNAME:Astroingeo
X-ORIGINAL-URL:https://www.astroingeo.org
X-WR-CALDESC:Eventos para Astroingeo
BEGIN:VTIMEZONE
TZID:Europe/Madrid
BEGIN:DAYLIGHT
TZOFFSETFROM:+0100
TZOFFSETTO:+0200
TZNAME:CEST
DTSTART:20210328T010000
END:DAYLIGHT
BEGIN:STANDARD
TZOFFSETFROM:+0200
TZOFFSETTO:+0100
TZNAME:CET
DTSTART:20211031T010000
END:STANDARD
END:VTIMEZONE
BEGIN:VEVENT
DTSTART;TZID=Europe/Madrid:20211211T173000
DTEND;TZID=Europe/Madrid:20211211T233000
DTSTAMP:20260422T185743
CREATED:20211201T083813Z
LAST-MODIFIED:20211201T083813Z
UID:3216-1639243800-1639265400@www.astroingeo.org
SUMMARY:Observación astronómica en IBI
DESCRIPTION:Día 11:\nObservación astronómica en IBI \nLugar: Estación Biológica\, explanada Torretes \nSalida: 17:30 h. desde el parking 3 de la UA
URL:https://www.astroingeo.org/evento/observacion-astronomica-en-ibi-3/
LOCATION:Parking 3\, Universidad de Alicante\, Parking 3\, San Vicente del Raspeig\, España
CATEGORIES:Observación
ATTACH;FMTTYPE=image/jpeg:https://www.astroingeo.org/wp-content/uploads/2020/01/2016062616381150252.jpg
ORGANIZER;CN="Astroingeo":MAILTO:infoastroingeo@gmail.com
END:VEVENT
BEGIN:VEVENT
DTSTART;TZID=Europe/Madrid:20211216T190000
DTEND;TZID=Europe/Madrid:20211216T210000
DTSTAMP:20260422T185743
CREATED:20211201T085242Z
LAST-MODIFIED:20211201T085242Z
UID:3218-1639681200-1639688400@www.astroingeo.org
SUMMARY:“Encuentra tu calle en el cielo” + Asamblea General
DESCRIPTION:Día 16:\nVisualización del proyecto “Encuentra tu calle en el cielo”\, a cargo de Manuel Fernández de Viguri Lugar: Aula 17D de la Politécnica IV \nDesde las 19:00 hasta las 21:00 h. \nA continuación\, se celebrará la Asamblea General Ordinaria 2021\, finalizando con entrega de certificados y premios\, terminando con el tradicional ágape navideño de Astroingeo
URL:https://www.astroingeo.org/evento/encuentra-tu-calle-en-el-cielo-asamblea-general/
LOCATION:Aula Astroingeo\, Aula 17D Politécnica IV de la Universidad de Alicante\, San Vicente del Raspeig\, España
CATEGORIES:Otros
ATTACH;FMTTYPE=image/jpeg:https://www.astroingeo.org/wp-content/uploads/2021/12/asamblea.jpg
ORGANIZER;CN="Astroingeo":MAILTO:infoastroingeo@gmail.com
END:VEVENT
END:VCALENDAR