BEGIN:VCALENDAR
VERSION:2.0
PRODID:-//Astroingeo - ECPv5.9.0//NONSGML v1.0//EN
CALSCALE:GREGORIAN
METHOD:PUBLISH
X-WR-CALNAME:Astroingeo
X-ORIGINAL-URL:https://www.astroingeo.org
X-WR-CALDESC:Eventos para Astroingeo
BEGIN:VTIMEZONE
TZID:Europe/Madrid
BEGIN:DAYLIGHT
TZOFFSETFROM:+0100
TZOFFSETTO:+0200
TZNAME:CEST
DTSTART:20210328T010000
END:DAYLIGHT
BEGIN:STANDARD
TZOFFSETFROM:+0200
TZOFFSETTO:+0100
TZNAME:CET
DTSTART:20211031T010000
END:STANDARD
END:VTIMEZONE
BEGIN:VEVENT
DTSTART;TZID=Europe/Madrid:20210917T203000
DTEND;TZID=Europe/Madrid:20210917T223000
DTSTAMP:20260422T231201
CREATED:20210909T094717Z
LAST-MODIFIED:20210909T094717Z
UID:3155-1631910600-1631917800@www.astroingeo.org
SUMMARY:MEDNIGHT 2021 “Astronomía en la Luna” NIGHT OF STARS
DESCRIPTION:MEDNIGHT 2021 “Astronomía en la Luna” NIGHT OF STARS\n[EUROPEAN RESERARCHERS – UA] en el CEIP Nº 49 PUÇOL (Elche)     \nObservación astronómica del proyecto “Astronomía en la Luna” \nDía 17 de Septiembre\nHora 20:30 a 22:30 a cargo de Astroingeo
URL:https://www.astroingeo.org/evento/mednight-2021-astronomia-en-la-luna-night-of-stars/
CATEGORIES:Observación
ATTACH;FMTTYPE=image/jpeg:https://www.astroingeo.org/wp-content/uploads/2020/01/2016062616381150252.jpg
ORGANIZER;CN="Astroingeo":MAILTO:infoastroingeo@gmail.com
END:VEVENT
BEGIN:VEVENT
DTSTART;TZID=Europe/Madrid:20210922T190000
DTEND;TZID=Europe/Madrid:20210928T210000
DTSTAMP:20260422T231201
CREATED:20210909T095100Z
LAST-MODIFIED:20210909T100026Z
UID:3157-1632337200-1632862800@www.astroingeo.org
SUMMARY:Exposición de instrumentos de medición utilizados por los egipcios
DESCRIPTION:Desde el 22 septiembre al 28 octubre:\n\nExposición de instrumentos de medición\, utilizados por los egipcios y talleres de su aplicación por Enrique Aparicio Arias\n\nLugar: planta baja de la biblioteca general de la UA
URL:https://www.astroingeo.org/evento/exposicion-de-instrumentos-de-medicion-utilizados-por-los-egipcios/
LOCATION:Planta baja Biblioteca General de la UA\, Universidad de Alicante\, Biblioteca General\, San Vicente del Raspeig\, Alicante\, España
CATEGORIES:Exposición
ATTACH;FMTTYPE=image/jpeg:https://www.astroingeo.org/wp-content/uploads/2021/09/instrumentos.jpg
ORGANIZER;CN="Astroingeo":MAILTO:infoastroingeo@gmail.com
END:VEVENT
BEGIN:VEVENT
DTSTART;TZID=Europe/Madrid:20210923T203000
DTEND;TZID=Europe/Madrid:20210923T223000
DTSTAMP:20260422T231201
CREATED:20210909T095804Z
LAST-MODIFIED:20210909T095859Z
UID:3162-1632429000-1632436200@www.astroingeo.org
SUMMARY:Bienvenida al alumnado de Arquitectura Técnica
DESCRIPTION:Día 23 Bienvenida al alumnado de Arquitectura Técnica\nSe realizará una clase de astronomía con explicaciones del funcionamiento del reloj solsticial del rectorado\, así como las relaciones directas con las disciplinas de Topografía/Cartografía/Geodesia satelital/Geografía/Matemáticas/E.Grafica/Historia. \nLugar: Reloj solsticial del rectorado junto al estanque de la biblioteca general \nHora de 20:30 a 22:30 h.
URL:https://www.astroingeo.org/evento/bienvenida-al-alumnado-de-arquitectura-tecnica/
LOCATION:Reloj soslticial\, Universidad de Alicante\, Rectorado\, San Vicente del Raspeig\, Alicante\, España
CATEGORIES:Evento
ATTACH;FMTTYPE=image/jpeg:https://www.astroingeo.org/wp-content/uploads/2021/09/reloj-solsticio.jpg
END:VEVENT
BEGIN:VEVENT
DTSTART;TZID=Europe/Madrid:20210924T183000
DTEND;TZID=Europe/Madrid:20210924T193000
DTSTAMP:20260422T231201
CREATED:20210909T101027Z
LAST-MODIFIED:20210909T101027Z
UID:3168-1632508200-1632511800@www.astroingeo.org
SUMMARY:Presentación del proyecto “Astronomía en la Luna “
DESCRIPTION:Día 24 Presentación del proyecto “Astronomía en la Luna “\n[El lago mágico del bosque ilustrado] \nEste proyecto es una propuesta para investigadores europeos que coordina el Vicerrectorado de Transferencia\, Innovación y Divulgación Científica. \nVa destinado a fomentar la participación tecnológica y creativa en centros de primaria y secundaria. Con la colaboración especial de miembros docentes de Astroingeo. \nLugar: salón de actos I de la Escuela Politécnica superior de la Universidad de Alicante a las 18:30
URL:https://www.astroingeo.org/evento/presentacion-del-proyecto-astronomia-en-la-luna/
LOCATION:Salón de Actos Politécnica\, Escola Politècnica Superior de la Universitat d'Alacant\, San Vicente del Raspeig\, España
CATEGORIES:Evento
ATTACH;FMTTYPE=image/jpeg:https://www.astroingeo.org/wp-content/uploads/2021/09/luna.jpg
ORGANIZER;CN="Astroingeo":MAILTO:infoastroingeo@gmail.com
END:VEVENT
BEGIN:VEVENT
DTSTART;TZID=Europe/Madrid:20210930T080000
DTEND;TZID=Europe/Madrid:20210930T210000
DTSTAMP:20260422T231201
CREATED:20210909T101338Z
LAST-MODIFIED:20210909T101338Z
UID:3171-1632988800-1633035600@www.astroingeo.org
SUMMARY:Presentación curso 2021_2022
DESCRIPTION:Día 30 Presentación curso 2021_2022 (presencial) de la asociación astronómica Astroingeo\nLugar: patio (al aire libre) de la escuela politécnica IV \nHora: 20 a 21 h.
URL:https://www.astroingeo.org/evento/presentacion-curso-2021_2022/
LOCATION:Aula Astroingeo\, Aula 17D Politécnica IV de la Universidad de Alicante\, San Vicente del Raspeig\, España
CATEGORIES:Otros
ATTACH;FMTTYPE=image/jpeg:https://www.astroingeo.org/wp-content/uploads/2021/09/curso2122.jpg
ORGANIZER;CN="Astroingeo":MAILTO:infoastroingeo@gmail.com
END:VEVENT
END:VCALENDAR