BEGIN:VCALENDAR
VERSION:2.0
PRODID:-//Astroingeo - ECPv5.9.0//NONSGML v1.0//EN
CALSCALE:GREGORIAN
METHOD:PUBLISH
X-WR-CALNAME:Astroingeo
X-ORIGINAL-URL:https://www.astroingeo.org
X-WR-CALDESC:Eventos para Astroingeo
BEGIN:VTIMEZONE
TZID:Europe/Madrid
BEGIN:DAYLIGHT
TZOFFSETFROM:+0100
TZOFFSETTO:+0200
TZNAME:CEST
DTSTART:20200329T010000
END:DAYLIGHT
BEGIN:STANDARD
TZOFFSETFROM:+0200
TZOFFSETTO:+0100
TZNAME:CET
DTSTART:20201025T010000
END:STANDARD
END:VTIMEZONE
BEGIN:VEVENT
DTSTART;TZID=Europe/Madrid:20201010T183000
DTEND;TZID=Europe/Madrid:20201011T013000
DTSTAMP:20260423T151723
CREATED:20201003T152300Z
LAST-MODIFIED:20201003T152300Z
UID:2345-1602354600-1602379800@www.astroingeo.org
SUMMARY:Salida a observar al pueblo de Salinas.
DESCRIPTION:Día 10: Salida a observar al pueblo de Salinas. (libre y gratuito). Salida desde el parking 3 (detrás del aulario II)\, a las 18:30 h.
URL:https://www.astroingeo.org/evento/salida-a-observar-al-pueblo-de-salinas-2/
LOCATION:Ermita San Isidro (Salinas)\, Ermita San Isidro\, Salinas (Alicante)\, España
CATEGORIES:Observación
ATTACH;FMTTYPE=image/jpeg:https://www.astroingeo.org/wp-content/uploads/2020/01/2016062616381150252.jpg
ORGANIZER;CN="Astroingeo":MAILTO:infoastroingeo@gmail.com
END:VEVENT
END:VCALENDAR