BEGIN:VCALENDAR
VERSION:2.0
PRODID:-//Astroingeo - ECPv5.9.0//NONSGML v1.0//EN
CALSCALE:GREGORIAN
METHOD:PUBLISH
X-WR-CALNAME:Astroingeo
X-ORIGINAL-URL:https://www.astroingeo.org
X-WR-CALDESC:Eventos para Astroingeo
BEGIN:VTIMEZONE
TZID:Europe/Madrid
BEGIN:DAYLIGHT
TZOFFSETFROM:+0100
TZOFFSETTO:+0200
TZNAME:CEST
DTSTART:20220327T010000
END:DAYLIGHT
BEGIN:STANDARD
TZOFFSETFROM:+0200
TZOFFSETTO:+0100
TZNAME:CET
DTSTART:20221030T010000
END:STANDARD
END:VTIMEZONE
BEGIN:VEVENT
DTSTART;TZID=Europe/Madrid:20220513T203000
DTEND;TZID=Europe/Madrid:20220513T230000
DTSTAMP:20260421T154359
CREATED:20220502T135920Z
LAST-MODIFIED:20220502T140728Z
UID:3306-1652473800-1652482800@www.astroingeo.org
SUMMARY:Actividad astronómica en el IES Luis G. Berlanga de San Juan de Alicante
DESCRIPTION:Día 13: \nActividad astronómica en el IES Luis G. Berlanga de San Juan de Alicante Con telescopios y explicaciones de las constelaciones del cielo de primavera Inicio a las 20:30. Organiza: AMPA
URL:https://www.astroingeo.org/evento/actividad-astronomica-en-el-ies-luis-g-berlanga-de-san-juan-de-alicante/
LOCATION:IES Luis G. Berlanga de San Juan de Alicante
CATEGORIES:Observación
ATTACH;FMTTYPE=image/jpeg:https://www.astroingeo.org/wp-content/uploads/2020/01/57209137_3022369451111936_3807737972489453568_n.jpg
END:VEVENT
END:VCALENDAR