BEGIN:VCALENDAR
VERSION:2.0
PRODID:-//Astroingeo - ECPv5.9.0//NONSGML v1.0//EN
CALSCALE:GREGORIAN
METHOD:PUBLISH
X-WR-CALNAME:Astroingeo
X-ORIGINAL-URL:https://www.astroingeo.org
X-WR-CALDESC:Eventos para Astroingeo
BEGIN:VTIMEZONE
TZID:Europe/Madrid
BEGIN:DAYLIGHT
TZOFFSETFROM:+0100
TZOFFSETTO:+0200
TZNAME:CEST
DTSTART:20220327T010000
END:DAYLIGHT
BEGIN:STANDARD
TZOFFSETFROM:+0200
TZOFFSETTO:+0100
TZNAME:CET
DTSTART:20221030T010000
END:STANDARD
END:VTIMEZONE
BEGIN:VEVENT
DTSTART;TZID=Europe/Madrid:20220507T193000
DTEND;TZID=Europe/Madrid:20220508T013000
DTSTAMP:20260422T011255
CREATED:20220502T135448Z
LAST-MODIFIED:20220502T135505Z
UID:3300-1651951800-1651973400@www.astroingeo.org
SUMMARY:Observación astronómica en Ibi
DESCRIPTION:Día 7: \nObservación astronómica en Ibi \nLugar: Estación biológica de Torretes Hora: 19:30 – Salida desde el parking 3 UA (junto señal punto de encuentro de Astroingeo).
URL:https://www.astroingeo.org/evento/observacion-astronomica-en-ibi-8/
LOCATION:Parking 3\, Universidad de Alicante\, Parking 3\, San Vicente del Raspeig\, España
CATEGORIES:Observación
ATTACH;FMTTYPE=image/jpeg:https://www.astroingeo.org/wp-content/uploads/2020/01/2016062616381150252.jpg
ORGANIZER;CN="Astroingeo":MAILTO:infoastroingeo@gmail.com
END:VEVENT
END:VCALENDAR