BEGIN:VCALENDAR
VERSION:2.0
PRODID:-//Astroingeo - ECPv5.9.0//NONSGML v1.0//EN
CALSCALE:GREGORIAN
METHOD:PUBLISH
X-WR-CALNAME:Astroingeo
X-ORIGINAL-URL:https://www.astroingeo.org
X-WR-CALDESC:Eventos para Astroingeo
BEGIN:VTIMEZONE
TZID:Europe/Madrid
BEGIN:DAYLIGHT
TZOFFSETFROM:+0100
TZOFFSETTO:+0200
TZNAME:CEST
DTSTART:20220327T010000
END:DAYLIGHT
BEGIN:STANDARD
TZOFFSETFROM:+0200
TZOFFSETTO:+0100
TZNAME:CET
DTSTART:20221030T010000
END:STANDARD
END:VTIMEZONE
BEGIN:VEVENT
DTSTART;TZID=Europe/Madrid:20220429T200000
DTEND;TZID=Europe/Madrid:20220429T213000
DTSTAMP:20260422T132344
CREATED:20220329T132634Z
LAST-MODIFIED:20220329T132634Z
UID:3285-1651262400-1651267800@www.astroingeo.org
SUMMARY:Iniciación a la Radioastronomía y Cohetería para aficionados
DESCRIPTION:Día 29:\nIniciación a la Radioastronomía y Cohetería para aficionados\nA cargo de miembros Astroingeo. Coordinan: David Hernández\, José Rosell y Enrique Aparicio\nHora: 20:00 – Lugar: aula 23G Politécnica IV de la Universidad de Alicante
URL:https://www.astroingeo.org/evento/iniciacion-a-la-radioastronomia-y-coheteria-para-aficionados/
LOCATION:Aula Astroingeo\, Aula 17D Politécnica IV de la Universidad de Alicante\, San Vicente del Raspeig\, España
CATEGORIES:Taller
ATTACH;FMTTYPE=image/jpeg:https://www.astroingeo.org/wp-content/uploads/2022/03/iram-756x442-1.jpg
ORGANIZER;CN="Astroingeo":MAILTO:infoastroingeo@gmail.com
END:VEVENT
END:VCALENDAR