BEGIN:VCALENDAR
VERSION:2.0
PRODID:-//Astroingeo - ECPv5.9.0//NONSGML v1.0//EN
CALSCALE:GREGORIAN
METHOD:PUBLISH
X-WR-CALNAME:Astroingeo
X-ORIGINAL-URL:https://www.astroingeo.org
X-WR-CALDESC:Eventos para Astroingeo
BEGIN:VTIMEZONE
TZID:Europe/Madrid
BEGIN:DAYLIGHT
TZOFFSETFROM:+0100
TZOFFSETTO:+0200
TZNAME:CEST
DTSTART:20220327T010000
END:DAYLIGHT
BEGIN:STANDARD
TZOFFSETFROM:+0200
TZOFFSETTO:+0100
TZNAME:CET
DTSTART:20221030T010000
END:STANDARD
END:VTIMEZONE
BEGIN:VEVENT
DTSTART;TZID=Europe/Madrid:20220310T200000
DTEND;TZID=Europe/Madrid:20220310T213000
DTSTAMP:20260422T162909
CREATED:20220303T184518Z
LAST-MODIFIED:20220307T103756Z
UID:3261-1646942400-1646947800@www.astroingeo.org
SUMMARY:Conferencia: «Geógrafas y Ciencia»
DESCRIPTION:Día 10: Conferencia: «Geógrafas y Ciencia»\, a cargo de las profesoras doctoras de la Universidad de Alicante Ascensión Padilla Blanco y Ana Espinosa Seguí. Politécnica IV aula 23 G planta cero\, a las 20:00h.
URL:https://www.astroingeo.org/evento/conferencia-geofrafas-y-ciencia/
LOCATION:Aula Astroingeo\, Aula 17D Politécnica IV de la Universidad de Alicante\, San Vicente del Raspeig\, España
CATEGORIES:Conferencia
ATTACH;FMTTYPE=image/jpeg:https://www.astroingeo.org/wp-content/uploads/2020/01/conferencia-astroingeo.jpg
ORGANIZER;CN="Astroingeo":MAILTO:infoastroingeo@gmail.com
END:VEVENT
END:VCALENDAR