BEGIN:VCALENDAR
VERSION:2.0
PRODID:-//Astroingeo - ECPv5.9.0//NONSGML v1.0//EN
CALSCALE:GREGORIAN
METHOD:PUBLISH
X-WR-CALNAME:Astroingeo
X-ORIGINAL-URL:https://www.astroingeo.org
X-WR-CALDESC:Eventos para Astroingeo
BEGIN:VTIMEZONE
TZID:Europe/Madrid
BEGIN:DAYLIGHT
TZOFFSETFROM:+0100
TZOFFSETTO:+0200
TZNAME:CEST
DTSTART:20220327T010000
END:DAYLIGHT
BEGIN:STANDARD
TZOFFSETFROM:+0200
TZOFFSETTO:+0100
TZNAME:CET
DTSTART:20221030T010000
END:STANDARD
END:VTIMEZONE
BEGIN:VEVENT
DTSTART;TZID=Europe/Madrid:20220127T193000
DTEND;TZID=Europe/Madrid:20220127T213000
DTSTAMP:20260422T185737
CREATED:20220114T135903Z
LAST-MODIFIED:20220114T135903Z
UID:3231-1643311800-1643319000@www.astroingeo.org
SUMMARY:Videoconferencia: “Urania Sternwarte: El majestuoso observatorio astronómico de Zúrich”
DESCRIPTION:Día 27: \nVideoconferencia a cargo de Manuel Rodríguez de Viguri (miembro de Astroingeo) “Urania Sternwarte: El majestuoso observatorio astronómico de Zúrich” \nEnlace Meet: meet.google.com/zgc-ceto-uen \nHora: 19:30 a 21:30 – \nLugar: aula 23 G politécnica IV
URL:https://www.astroingeo.org/evento/videoconferencia-urania-sternwarte-el-majestuoso-observatorio-astronomico-de-zurich/
LOCATION:Aula Astroingeo\, Aula 17D Politécnica IV de la Universidad de Alicante\, San Vicente del Raspeig\, España
CATEGORIES:Conferencia
ATTACH;FMTTYPE=image/jpeg:https://www.astroingeo.org/wp-content/uploads/2020/01/conferencia-astroingeo.jpg
ORGANIZER;CN="Astroingeo":MAILTO:infoastroingeo@gmail.com
END:VEVENT
END:VCALENDAR