BEGIN:VCALENDAR
VERSION:2.0
PRODID:-//Astroingeo - ECPv5.9.0//NONSGML v1.0//EN
CALSCALE:GREGORIAN
METHOD:PUBLISH
X-WR-CALNAME:Astroingeo
X-ORIGINAL-URL:https://www.astroingeo.org
X-WR-CALDESC:Eventos para Astroingeo
BEGIN:VTIMEZONE
TZID:Europe/Madrid
BEGIN:DAYLIGHT
TZOFFSETFROM:+0100
TZOFFSETTO:+0200
TZNAME:CEST
DTSTART:20210328T010000
END:DAYLIGHT
BEGIN:STANDARD
TZOFFSETFROM:+0200
TZOFFSETTO:+0100
TZNAME:CET
DTSTART:20211031T010000
END:STANDARD
END:VTIMEZONE
BEGIN:VEVENT
DTSTART;TZID=Europe/Madrid:20211127T180000
DTEND;TZID=Europe/Madrid:20211128T180000
DTSTAMP:20260422T214912
CREATED:20211028T161817Z
LAST-MODIFIED:20211028T161817Z
UID:3207-1638036000-1638122400@www.astroingeo.org
SUMMARY:Observación astronómica en IBI
DESCRIPTION:Día 27:\nObservación astronómica en IBI Explanada de la estación biológica Jardín botánico Torretes https://web.ua.es/jardinbotanico/ \nA las 18:00 h. Punto de salida de la UA (parking 3)
URL:https://www.astroingeo.org/evento/observacion-astronomica-en-ibi-2/
LOCATION:Parking 3\, Universidad de Alicante\, Parking 3\, San Vicente del Raspeig\, España
CATEGORIES:Observación
ATTACH;FMTTYPE=image/jpeg:https://www.astroingeo.org/wp-content/uploads/2020/01/2016062616381150252.jpg
ORGANIZER;CN="Astroingeo":MAILTO:infoastroingeo@gmail.com
END:VEVENT
END:VCALENDAR