BEGIN:VCALENDAR
VERSION:2.0
PRODID:-//Astroingeo - ECPv5.9.0//NONSGML v1.0//EN
CALSCALE:GREGORIAN
METHOD:PUBLISH
X-WR-CALNAME:Astroingeo
X-ORIGINAL-URL:https://www.astroingeo.org
X-WR-CALDESC:Eventos para Astroingeo
BEGIN:VTIMEZONE
TZID:Europe/Madrid
BEGIN:DAYLIGHT
TZOFFSETFROM:+0100
TZOFFSETTO:+0200
TZNAME:CEST
DTSTART:20210328T010000
END:DAYLIGHT
BEGIN:STANDARD
TZOFFSETFROM:+0200
TZOFFSETTO:+0100
TZNAME:CET
DTSTART:20211031T010000
END:STANDARD
END:VTIMEZONE
BEGIN:VEVENT
DTSTART;TZID=Europe/Madrid:20211112T190000
DTEND;TZID=Europe/Madrid:20211112T220000
DTSTAMP:20260422T214917
CREATED:20211028T161232Z
LAST-MODIFIED:20211028T161252Z
UID:3202-1636743600-1636754400@www.astroingeo.org
SUMMARY:Observación con telescopios Colegio San Juan y San Pablo de IBI
DESCRIPTION:Día 12:\nObservación con telescopios Colegio San Juan y San Pablo de IBI \nDesde las 19:00 h. hasta las 22:00 h. Actividad incluida en el Proyecto Europeo #UADivulga _MEDNIGHT _2021/22\, en el cual se desarrolló el “Taller astronómico de la luna mediterránea”
URL:https://www.astroingeo.org/evento/observacion-con-telescopios-colegio-san-juan-y-san-pablo-de-ibi/
CATEGORIES:Observación
ATTACH;FMTTYPE=image/jpeg:https://www.astroingeo.org/wp-content/uploads/2020/01/2016062616381150252.jpg
ORGANIZER;CN="Astroingeo":MAILTO:infoastroingeo@gmail.com
END:VEVENT
END:VCALENDAR