BEGIN:VCALENDAR
VERSION:2.0
PRODID:-//Astroingeo - ECPv5.9.0//NONSGML v1.0//EN
CALSCALE:GREGORIAN
METHOD:PUBLISH
X-WR-CALNAME:Astroingeo
X-ORIGINAL-URL:https://www.astroingeo.org
X-WR-CALDESC:Eventos para Astroingeo
BEGIN:VTIMEZONE
TZID:Europe/Madrid
BEGIN:DAYLIGHT
TZOFFSETFROM:+0100
TZOFFSETTO:+0200
TZNAME:CEST
DTSTART:20210328T010000
END:DAYLIGHT
BEGIN:STANDARD
TZOFFSETFROM:+0200
TZOFFSETTO:+0100
TZNAME:CET
DTSTART:20211031T010000
END:STANDARD
END:VTIMEZONE
BEGIN:VEVENT
DTSTART;TZID=Europe/Madrid:20211020T180000
DTEND;TZID=Europe/Madrid:20211020T190000
DTSTAMP:20260422T231616
CREATED:20211007T125824Z
LAST-MODIFIED:20211007T125824Z
UID:3194-1634752800-1634756400@www.astroingeo.org
SUMMARY:Taller de instrumentos de medición Egipcios
DESCRIPTION:Día 20\, miércoles\nTaller de instrumentos de medición Egipcios\, a cargo de Enrique Aparicio Arias. De 18:00 a 19:00 h. Previa inscripción en dirbib.eps@ua.es
URL:https://www.astroingeo.org/evento/taller-de-instrumentos-de-medicion-egipcios/
CATEGORIES:Taller
ATTACH;FMTTYPE=image/png:https://www.astroingeo.org/wp-content/uploads/2021/09/octubre-2021.png
END:VEVENT
END:VCALENDAR