BEGIN:VCALENDAR
VERSION:2.0
PRODID:-//Astroingeo - ECPv5.9.0//NONSGML v1.0//EN
CALSCALE:GREGORIAN
METHOD:PUBLISH
X-WR-CALNAME:Astroingeo
X-ORIGINAL-URL:https://www.astroingeo.org
X-WR-CALDESC:Eventos para Astroingeo
BEGIN:VTIMEZONE
TZID:Europe/Madrid
BEGIN:DAYLIGHT
TZOFFSETFROM:+0100
TZOFFSETTO:+0200
TZNAME:CEST
DTSTART:20210328T010000
END:DAYLIGHT
BEGIN:STANDARD
TZOFFSETFROM:+0200
TZOFFSETTO:+0100
TZNAME:CET
DTSTART:20211031T010000
END:STANDARD
END:VTIMEZONE
BEGIN:VEVENT
DTSTART;TZID=Europe/Madrid:20210922T190000
DTEND;TZID=Europe/Madrid:20210928T210000
DTSTAMP:20260423T003436
CREATED:20210909T095100Z
LAST-MODIFIED:20210909T100026Z
UID:3157-1632337200-1632862800@www.astroingeo.org
SUMMARY:Exposición de instrumentos de medición utilizados por los egipcios
DESCRIPTION:Desde el 22 septiembre al 28 octubre:\n\nExposición de instrumentos de medición\, utilizados por los egipcios y talleres de su aplicación por Enrique Aparicio Arias\n\nLugar: planta baja de la biblioteca general de la UA
URL:https://www.astroingeo.org/evento/exposicion-de-instrumentos-de-medicion-utilizados-por-los-egipcios/
LOCATION:Planta baja Biblioteca General de la UA\, Universidad de Alicante\, Biblioteca General\, San Vicente del Raspeig\, Alicante\, España
CATEGORIES:Exposición
ATTACH;FMTTYPE=image/jpeg:https://www.astroingeo.org/wp-content/uploads/2021/09/instrumentos.jpg
ORGANIZER;CN="Astroingeo":MAILTO:infoastroingeo@gmail.com
END:VEVENT
BEGIN:VEVENT
DTSTART;TZID=Europe/Madrid:20210923T203000
DTEND;TZID=Europe/Madrid:20210923T223000
DTSTAMP:20260423T003436
CREATED:20210909T095804Z
LAST-MODIFIED:20210909T095859Z
UID:3162-1632429000-1632436200@www.astroingeo.org
SUMMARY:Bienvenida al alumnado de Arquitectura Técnica
DESCRIPTION:Día 23 Bienvenida al alumnado de Arquitectura Técnica\nSe realizará una clase de astronomía con explicaciones del funcionamiento del reloj solsticial del rectorado\, así como las relaciones directas con las disciplinas de Topografía/Cartografía/Geodesia satelital/Geografía/Matemáticas/E.Grafica/Historia. \nLugar: Reloj solsticial del rectorado junto al estanque de la biblioteca general \nHora de 20:30 a 22:30 h.
URL:https://www.astroingeo.org/evento/bienvenida-al-alumnado-de-arquitectura-tecnica/
LOCATION:Reloj soslticial\, Universidad de Alicante\, Rectorado\, San Vicente del Raspeig\, Alicante\, España
CATEGORIES:Evento
ATTACH;FMTTYPE=image/jpeg:https://www.astroingeo.org/wp-content/uploads/2021/09/reloj-solsticio.jpg
END:VEVENT
END:VCALENDAR