BEGIN:VCALENDAR
VERSION:2.0
PRODID:-//Astroingeo - ECPv5.9.0//NONSGML v1.0//EN
CALSCALE:GREGORIAN
METHOD:PUBLISH
X-WR-CALNAME:Astroingeo
X-ORIGINAL-URL:https://www.astroingeo.org
X-WR-CALDESC:Eventos para Astroingeo
BEGIN:VTIMEZONE
TZID:Europe/Madrid
BEGIN:DAYLIGHT
TZOFFSETFROM:+0100
TZOFFSETTO:+0200
TZNAME:CEST
DTSTART:20230326T010000
END:DAYLIGHT
BEGIN:STANDARD
TZOFFSETFROM:+0200
TZOFFSETTO:+0100
TZNAME:CET
DTSTART:20231029T010000
END:STANDARD
END:VTIMEZONE
BEGIN:VEVENT
DTSTART;TZID=Europe/Madrid:20230331T183000
DTEND;TZID=Europe/Madrid:20230331T223000
DTSTAMP:20260421T125644
CREATED:20230225T112737Z
LAST-MODIFIED:20230225T112737Z
UID:3451-1680287400-1680301800@www.astroingeo.org
SUMMARY:Colegio Arbre Blanc de Mutxamel
DESCRIPTION:Observación con telescopios en colegios: \nDía 31: Colegio Arbre Blanc de Mutxamel
URL:https://www.astroingeo.org/evento/colegio-arbre-blanc-de-mutxamel/
CATEGORIES:Observación
ATTACH;FMTTYPE=image/png:https://www.astroingeo.org/wp-content/uploads/2023/02/observacion-colegio-telescopio.png
ORGANIZER;CN="Astroingeo":MAILTO:infoastroingeo@gmail.com
END:VEVENT
END:VCALENDAR