BEGIN:VCALENDAR
VERSION:2.0
PRODID:-//Astroingeo - ECPv5.9.0//NONSGML v1.0//EN
CALSCALE:GREGORIAN
METHOD:PUBLISH
X-WR-CALNAME:Astroingeo
X-ORIGINAL-URL:https://www.astroingeo.org
X-WR-CALDESC:Eventos para Astroingeo
BEGIN:VTIMEZONE
TZID:Europe/Madrid
BEGIN:DAYLIGHT
TZOFFSETFROM:+0100
TZOFFSETTO:+0200
TZNAME:CEST
DTSTART:20240331T010000
END:DAYLIGHT
BEGIN:STANDARD
TZOFFSETFROM:+0200
TZOFFSETTO:+0100
TZNAME:CET
DTSTART:20241027T010000
END:STANDARD
END:VTIMEZONE
BEGIN:VEVENT
DTSTART;TZID=Europe/Madrid:20240524T210000
DTEND;TZID=Europe/Madrid:20240524T223000
DTSTAMP:20260425T143956
CREATED:20240506T105908Z
LAST-MODIFIED:20240506T105908Z
UID:3645-1716584400-1716589800@www.astroingeo.org
SUMMARY:CEIP Rico Sapena de Castalla
DESCRIPTION:Día 24: \nCEIP Rico Sapena de Castalla
URL:https://www.astroingeo.org/evento/ceip-rico-sapena-de-castalla/
CATEGORIES:Taller
ATTACH;FMTTYPE=image/png:https://www.astroingeo.org/wp-content/uploads/2023/02/observacion-colegio-telescopio.png
END:VEVENT
END:VCALENDAR